BEGIN:VCALENDAR
VERSION:2.0
PRODID:-//Malankara Mar Thoma Syrian Church - ECPv4.3.1.1//NONSGML v1.0//EN
CALSCALE:GREGORIAN
METHOD:PUBLISH
X-WR-CALNAME:Malankara Mar Thoma Syrian Church
X-ORIGINAL-URL:https://marthoma.in
X-WR-CALDESC:Events for Malankara Mar Thoma Syrian Church
BEGIN:VEVENT
DTSTART;VALUE=DATE:20210627
DTEND;VALUE=DATE:20210627
DTSTAMP:20260420T065103
CREATED:20210306T102738Z
LAST-MODIFIED:20210306T102738Z
UID:46783-1624752000-1624838399@marthoma.in
SUMMARY:5th Sunday after Pentecost: The Cost of Discipleship
DESCRIPTION:
URL:https://marthoma.in/event/5th-sunday-after-pentecost-the-cost-of-discipleship/
END:VEVENT
END:VCALENDAR