BEGIN:VCALENDAR
VERSION:2.0
PRODID:-//Malankara Mar Thoma Syrian Church - ECPv4.3.1.1//NONSGML v1.0//EN
CALSCALE:GREGORIAN
METHOD:PUBLISH
X-WR-CALNAME:Malankara Mar Thoma Syrian Church
X-ORIGINAL-URL:https://marthoma.in
X-WR-CALDESC:Events for Malankara Mar Thoma Syrian Church
BEGIN:VEVENT
DTSTART;VALUE=DATE:20221201
DTEND;VALUE=DATE:20221201
DTSTAMP:20260421T081423
CREATED:20220702T071014Z
LAST-MODIFIED:20220702T071014Z
UID:48655-1669852800-1669939199@marthoma.in
SUMMARY:Beginning of 25 Days Lent\, ഇരുപത്തഞ്ച് നോമ്പ് ആരംഭം
DESCRIPTION:
URL:https://marthoma.in/event/beginning-of-25-days-lent-%e0%b4%87%e0%b4%b0%e0%b5%81%e0%b4%aa%e0%b4%a4%e0%b5%8d%e0%b4%a4%e0%b4%9e%e0%b5%8d%e0%b4%9a%e0%b5%8d-%e0%b4%a8%e0%b5%8b%e0%b4%ae%e0%b5%8d%e0%b4%aa%e0%b5%8d-%e0%b4%86%e0%b4%b0/
END:VEVENT
END:VCALENDAR