BEGIN:VCALENDAR
VERSION:2.0
PRODID:-//Malankara Mar Thoma Syrian Church - ECPv4.3.1.1//NONSGML v1.0//EN
CALSCALE:GREGORIAN
METHOD:PUBLISH
X-WR-CALNAME:Malankara Mar Thoma Syrian Church
X-ORIGINAL-URL:https://marthoma.in
X-WR-CALDESC:Events for Malankara Mar Thoma Syrian Church
BEGIN:VEVENT
DTSTART;VALUE=DATE:20210629
DTEND;VALUE=DATE:20210629
DTSTAMP:20260420T081101
CREATED:20210306T102810Z
LAST-MODIFIED:20210306T102810Z
UID:46785-1624924800-1625011199@marthoma.in
SUMMARY:End of the Fast of the Apostles
DESCRIPTION:
URL:https://marthoma.in/event/end-of-the-fast-of-the-apostles/
END:VEVENT
END:VCALENDAR