BEGIN:VCALENDAR
VERSION:2.0
PRODID:-//Malankara Mar Thoma Syrian Church - ECPv4.3.1.1//NONSGML v1.0//EN
CALSCALE:GREGORIAN
METHOD:PUBLISH
X-WR-CALNAME:Malankara Mar Thoma Syrian Church
X-ORIGINAL-URL:https://marthoma.in
X-WR-CALDESC:Events for Malankara Mar Thoma Syrian Church
BEGIN:VEVENT
DTSTART;VALUE=DATE:20221221
DTEND;VALUE=DATE:20221221
DTSTAMP:20260419T141604
CREATED:20220702T071303Z
LAST-MODIFIED:20220702T071303Z
UID:48664-1671580800-1671667199@marthoma.in
SUMMARY:Mar Thoma Church Day (Sabha Dinam)\, മാര്‍ത്തോമ്മാ സഭാ ദിനം
DESCRIPTION:
URL:https://marthoma.in/event/mar-thoma-church-day-sabha-dinam-%e0%b4%ae%e0%b4%be%e0%b4%b0%e0%b5%8d%e2%80%8d%e0%b4%a4%e0%b5%8d%e0%b4%a4%e0%b5%8b%e0%b4%ae%e0%b5%8d%e0%b4%ae%e0%b4%be-%e0%b4%b8%e0%b4%ad%e0%b4%be-%e0%b4%a6%e0%b4%bf/
END:VEVENT
END:VCALENDAR