BEGIN:VCALENDAR
VERSION:2.0
PRODID:-//Malankara Mar Thoma Syrian Church - ECPv4.3.1.1//NONSGML v1.0//EN
CALSCALE:GREGORIAN
METHOD:PUBLISH
X-WR-CALNAME:Malankara Mar Thoma Syrian Church
X-ORIGINAL-URL:https://marthoma.in
X-WR-CALDESC:Events for Malankara Mar Thoma Syrian Church
BEGIN:VEVENT
DTSTART;TZID=UTC+5.5:20211005T100000
DTEND;TZID=UTC+5.5:20211005T120000
DTSTAMP:20260422T154017
CREATED:20210926T135114Z
LAST-MODIFIED:20210926T135114Z
UID:47686-1633428000-1633435200@marthoma.in
SUMMARY:Mar Thoma Sabha Council
DESCRIPTION:
URL:https://marthoma.in/event/mar-thoma-sabha-council-26/
LOCATION:Tiruvalla\, Kerala\, Kerala\, 689101\, India
END:VEVENT
END:VCALENDAR