BEGIN:VCALENDAR
VERSION:2.0
PRODID:-//Malankara Mar Thoma Syrian Church - ECPv4.3.1.1//NONSGML v1.0//EN
CALSCALE:GREGORIAN
METHOD:PUBLISH
X-WR-CALNAME:Malankara Mar Thoma Syrian Church
X-ORIGINAL-URL:https://marthoma.in
X-WR-CALDESC:Events for Malankara Mar Thoma Syrian Church
BEGIN:VEVENT
DTSTART;VALUE=DATE:20210703
DTEND;VALUE=DATE:20210703
DTSTAMP:20260422T082056
CREATED:20210323T053137Z
LAST-MODIFIED:20210323T053137Z
UID:46821-1625270400-1625356799@marthoma.in
SUMMARY:St. Thomas the Apostle’s Day
DESCRIPTION:
URL:https://marthoma.in/event/st-thomas-the-apostles-day-2/
END:VEVENT
END:VCALENDAR