BEGIN:VCALENDAR
VERSION:2.0
PRODID:-//Malankara Mar Thoma Syrian Church - ECPv4.3.1.1//NONSGML v1.0//EN
CALSCALE:GREGORIAN
METHOD:PUBLISH
X-WR-CALNAME:Malankara Mar Thoma Syrian Church
X-ORIGINAL-URL:https://marthoma.in
X-WR-CALDESC:Events for Malankara Mar Thoma Syrian Church
BEGIN:VEVENT
DTSTART;VALUE=DATE:20210325
DTEND;VALUE=DATE:20210325
DTSTAMP:20260421T092033
CREATED:20201228T112359Z
LAST-MODIFIED:20201228T112430Z
UID:46539-1616630400-1616716799@marthoma.in
SUMMARY:Suboro - Annunciation to Virgin Mary
DESCRIPTION:
URL:https://marthoma.in/event/suboro-annunciation-to-virgin-mary-2/
END:VEVENT
END:VCALENDAR