BEGIN:VCALENDAR
VERSION:2.0
PRODID:-//Malankara Mar Thoma Syrian Church - ECPv4.3.1.1//NONSGML v1.0//EN
CALSCALE:GREGORIAN
METHOD:PUBLISH
X-WR-CALNAME:Malankara Mar Thoma Syrian Church
X-ORIGINAL-URL:https://marthoma.in
X-WR-CALDESC:Events for Malankara Mar Thoma Syrian Church
BEGIN:VEVENT
DTSTART;VALUE=DATE:20210704
DTEND;VALUE=DATE:20210704
DTSTAMP:20260422T082029
CREATED:20210323T053220Z
LAST-MODIFIED:20210323T053220Z
UID:46823-1625356800-1625443199@marthoma.in
SUMMARY:Sunday Theme: Christian Stewardship - Tithe Offering
DESCRIPTION:
URL:https://marthoma.in/event/sunday-theme-christian-stewardship-tithe-offering/
END:VEVENT
END:VCALENDAR