BEGIN:VCALENDAR
VERSION:2.0
PRODID:-//Malankara Mar Thoma Syrian Church - ECPv4.3.1.1//NONSGML v1.0//EN
CALSCALE:GREGORIAN
METHOD:PUBLISH
X-WR-CALNAME:Malankara Mar Thoma Syrian Church
X-ORIGINAL-URL:https://marthoma.in
X-WR-CALDESC:Events for Malankara Mar Thoma Syrian Church
BEGIN:VEVENT
DTSTART;VALUE=DATE:20210718
DTEND;VALUE=DATE:20210718
DTSTAMP:20260420T054813
CREATED:20210323T053354Z
LAST-MODIFIED:20210323T053427Z
UID:46827-1626566400-1626652799@marthoma.in
SUMMARY:Sunday Theme: God’s People to be prepared for Witness
DESCRIPTION:
URL:https://marthoma.in/event/sunday-theme-gods-people-to-be-prepared-for-witness/
END:VEVENT
END:VCALENDAR