BEGIN:VCALENDAR
VERSION:2.0
PRODID:-//Malankara Mar Thoma Syrian Church - ECPv4.3.1.1//NONSGML v1.0//EN
CALSCALE:GREGORIAN
METHOD:PUBLISH
X-WR-CALNAME:Malankara Mar Thoma Syrian Church
X-ORIGINAL-URL:https://marthoma.in
X-WR-CALDESC:Events for Malankara Mar Thoma Syrian Church
BEGIN:VEVENT
DTSTART;VALUE=DATE:20210711
DTEND;VALUE=DATE:20210711
DTSTAMP:20260420T065015
CREATED:20210323T053252Z
LAST-MODIFIED:20210323T053252Z
UID:46825-1625961600-1626047999@marthoma.in
SUMMARY:Sunday Theme: Priests: Called to be Imitators of Christ
DESCRIPTION:
URL:https://marthoma.in/event/sunday-theme-priests-called-to-be-imitators-of-christ/
END:VEVENT
END:VCALENDAR