BEGIN:VCALENDAR
VERSION:2.0
PRODID:-//Malankara Mar Thoma Syrian Church - ECPv4.3.1.1//NONSGML v1.0//EN
CALSCALE:GREGORIAN
METHOD:PUBLISH
X-WR-CALNAME:Malankara Mar Thoma Syrian Church
X-ORIGINAL-URL:https://marthoma.in
X-WR-CALDESC:Events for Malankara Mar Thoma Syrian Church
BEGIN:VEVENT
DTSTART;VALUE=DATE:20210516
DTEND;VALUE=DATE:20210516
DTSTAMP:20260419T205351
CREATED:20210303T050601Z
LAST-MODIFIED:20210303T050601Z
UID:46755-1621123200-1621209599@marthoma.in
SUMMARY:Sunday Theme: The Conscious Waiting for Holy Spirit
DESCRIPTION:
URL:https://marthoma.in/event/sunday-theme-the-conscious-waiting-for-holy-spirit/
END:VEVENT
END:VCALENDAR