BEGIN:VCALENDAR
VERSION:2.0
PRODID:-//Malankara Mar Thoma Syrian Church - ECPv4.3.1.1//NONSGML v1.0//EN
CALSCALE:GREGORIAN
METHOD:PUBLISH
X-WR-CALNAME:Malankara Mar Thoma Syrian Church
X-ORIGINAL-URL:https://marthoma.in
X-WR-CALDESC:Events for Malankara Mar Thoma Syrian Church
BEGIN:VEVENT
DTSTART;VALUE=DATE:20230108
DTEND;VALUE=DATE:20230108
DTSTAMP:20260419T194957
CREATED:20230109T093107Z
LAST-MODIFIED:20230109T093107Z
UID:49041-1673136000-1673222399@marthoma.in
SUMMARY:Temperance Day\, Body: Temple of God to be kept in holiness\, St. Stephen’s Day; ലഹരി വിരുദ്ധ ദിനം\, ശരീരം: വിശുദ്ധിയില്‍ കാക്കേണ്ട ദൈവിക മന്ദിരം\, വി. സ്തേഫാനോസിന്റെ നാള്‍
DESCRIPTION:
URL:https://marthoma.in/event/temperance-day-body-temple-of-god-to-be-kept-in-holiness-st-stephens-day-%e0%b4%b2%e0%b4%b9%e0%b4%b0%e0%b4%bf-%e0%b4%b5%e0%b4%bf%e0%b4%b0%e0%b5%81%e0%b4%a6%e0%b5%8d%e0%b4%a7-%e0%b4%a6/
END:VEVENT
END:VCALENDAR