BEGIN:VCALENDAR
VERSION:2.0
PRODID:-//Malankara Mar Thoma Syrian Church - ECPv4.3.1.1//NONSGML v1.0//EN
CALSCALE:GREGORIAN
METHOD:PUBLISH
X-WR-CALNAME:Malankara Mar Thoma Syrian Church
X-ORIGINAL-URL:https://marthoma.in
X-WR-CALDESC:Events for Malankara Mar Thoma Syrian Church
BEGIN:VEVENT
DTSTART;VALUE=DATE:20221225
DTEND;VALUE=DATE:20221225
DTSTAMP:20260419T141659
CREATED:20220702T071335Z
LAST-MODIFIED:20220702T071335Z
UID:48666-1671926400-1672012799@marthoma.in
SUMMARY:The Feast of Nativity “Birth of the Saviour: Joy to the World” End of 25 Days Lent\, ജനന പെരുന്നാള്‍: സര്‍വ്വ ജനത്തിനുമുള്ള മഹാ സന്തോഷം\, ഇരുപത്തിയഞ്ച് നോമ്പ് വീടല്‍
DESCRIPTION:
URL:https://marthoma.in/event/the-feast-of-nativity-birth-of-the-saviour-joy-to-the-world-end-of-25-days-lent-%e0%b4%9c%e0%b4%a8%e0%b4%a8-%e0%b4%aa%e0%b5%86%e0%b4%b0%e0%b5%81%e0%b4%a8%e0%b5%8d%e0%b4%a8%e0%b4%be/
END:VEVENT
END:VCALENDAR