BEGIN:VCALENDAR
VERSION:2.0
PRODID:-//Malankara Mar Thoma Syrian Church - ECPv4.3.1.1//NONSGML v1.0//EN
CALSCALE:GREGORIAN
METHOD:PUBLISH
X-WR-CALNAME:Malankara Mar Thoma Syrian Church
X-ORIGINAL-URL:https://marthoma.in
X-WR-CALDESC:Events for Malankara Mar Thoma Syrian Church
BEGIN:VEVENT
DTSTART;VALUE=DATE:20230201
DTEND;VALUE=DATE:20230201
DTSTAMP:20260421T103246
CREATED:20230109T094052Z
LAST-MODIFIED:20230109T094052Z
UID:49060-1675209600-1675295999@marthoma.in
SUMMARY:Three-day Lent – Redemption of All creation; മൂന്ന് നോമ്പ് – സര്‍വ്വസൃഷ്ടിയുടെയും വീണ്ടെടുപ്പ്
DESCRIPTION:
URL:https://marthoma.in/event/three-day-lent-redemption-of-all-creation-%e0%b4%ae%e0%b5%82%e0%b4%a8%e0%b5%8d%e0%b4%a8%e0%b5%8d-%e0%b4%a8%e0%b5%8b%e0%b4%ae%e0%b5%8d%e0%b4%aa%e0%b5%8d-%e0%b4%b8%e0%b4%b0%e0%b5%8d/
END:VEVENT
END:VCALENDAR