BEGIN:VCALENDAR
VERSION:2.0
PRODID:-//Malankara Mar Thoma Syrian Church - ECPv4.3.1.1//NONSGML v1.0//EN
CALSCALE:GREGORIAN
METHOD:PUBLISH
X-WR-CALNAME:Malankara Mar Thoma Syrian Church
X-ORIGINAL-URL:https://marthoma.in
X-WR-CALDESC:Events for Malankara Mar Thoma Syrian Church
BEGIN:VEVENT
DTSTART;VALUE=DATE:20210530
DTEND;VALUE=DATE:20210530
DTSTAMP:20260419T233906
CREATED:20210303T050743Z
LAST-MODIFIED:20210303T050743Z
UID:46761-1622332800-1622419199@marthoma.in
SUMMARY:Trinity Sunday: “We Believe in Holy Trinity”
DESCRIPTION:
URL:https://marthoma.in/event/trinity-sunday-we-believe-in-holy-trinity/
END:VEVENT
END:VCALENDAR