BEGIN:VCALENDAR
VERSION:2.0
PRODID:-//Malankara Mar Thoma Syrian Church - ECPv4.3.1.1//NONSGML v1.0//EN
CALSCALE:GREGORIAN
METHOD:PUBLISH
X-WR-CALNAME:Malankara Mar Thoma Syrian Church
X-ORIGINAL-URL:https://marthoma.in
X-WR-CALDESC:Events for Malankara Mar Thoma Syrian Church
BEGIN:VEVENT
DTSTART;VALUE=DATE:20230118
DTEND;VALUE=DATE:20230118
DTSTAMP:20260419T234844
CREATED:20230109T093236Z
LAST-MODIFIED:20230109T093236Z
UID:49045-1674000000-1674086399@marthoma.in
SUMMARY:Unity Octave Begins; ഐക്യ പ്രാര്തനവാരം ആരംഭം
DESCRIPTION:
URL:https://marthoma.in/event/unity-octave-begins-%e0%b4%90%e0%b4%95%e0%b5%8d%e0%b4%af-%e0%b4%aa%e0%b5%8d%e0%b4%b0%e0%b4%be%e0%b4%b0%e0%b5%8d%e0%b4%a4%e0%b4%a8%e0%b4%b5%e0%b4%be%e0%b4%b0%e0%b4%82-%e0%b4%86%e0%b4%b0%e0%b4%82/
END:VEVENT
END:VCALENDAR