BEGIN:VCALENDAR
VERSION:2.0
PRODID:-//Malankara Mar Thoma Syrian Church - ECPv4.3.1.1//NONSGML v1.0//EN
CALSCALE:GREGORIAN
METHOD:PUBLISH
X-WR-CALNAME:Malankara Mar Thoma Syrian Church
X-ORIGINAL-URL:https://marthoma.in
X-WR-CALDESC:Events for Malankara Mar Thoma Syrian Church
BEGIN:VEVENT
DTSTART;TZID=UTC+5.5:20180116T030000
DTEND;TZID=UTC+5.5:20180116T170000
DTSTAMP:20260424T111221
CREATED:20180108T121923Z
LAST-MODIFIED:20180108T122903Z
UID:33245-1516071600-1516122000@marthoma.in
SUMMARY:Seminar: Socio- Political Commission
DESCRIPTION: വിദ്യാഭ്യാസം: മൂല്യപരമായ ആന്തരിക സംഘര്‍ഷങ്ങള്‍\n\n\n\n\n \t\nPresided by: Rt. Rev. Dr. Abraham Mar Paulos Episcopa\n\n \t\nTheme Presentation: Dr.Muse Mary George  (Associate Professor in Dept.of Malayalam U.C. College\,Aluva)\n\n \t\nConvenor:  Rev. Dr. Easow Mathew\n\n\n 
URL:https://marthoma.in/event/socio-political-commission/
LOCATION:Kottayam\, Kottayam\, Kerala\, 686101\, India
GEO:9.4440257;76.5199195
X-APPLE-STRUCTURED-LOCATION;VALUE=URI;X-ADDRESS=Kottayam Kottayam Kerala 686101 India;X-APPLE-RADIUS=500;X-TITLE=Kottayam:geo:76.5199195,9.4440257
END:VEVENT
END:VCALENDAR