BEGIN:VCALENDAR
VERSION:2.0
PRODID:-//Malankara Mar Thoma Syrian Church - ECPv4.3.1.1//NONSGML v1.0//EN
CALSCALE:GREGORIAN
METHOD:PUBLISH
X-WR-CALNAME:Malankara Mar Thoma Syrian Church
X-ORIGINAL-URL:https://marthoma.in
X-WR-CALDESC:Events for Malankara Mar Thoma Syrian Church
BEGIN:VEVENT
DTSTART;VALUE=DATE:20180211
DTEND;VALUE=DATE:20180331
DTSTAMP:20260422T143210
CREATED:20171209T065614Z
LAST-MODIFIED:20171209T065614Z
UID:33085-1518307200-1522540799@marthoma.in
SUMMARY:Great Lent
DESCRIPTION:
URL:https://marthoma.in/event/great-lent/
END:VEVENT
BEGIN:VEVENT
DTSTART;TZID=UTC+5.5:20180219T100000
DTEND;TZID=UTC+5.5:20180219T170000
DTSTAMP:20260422T143210
CREATED:20180217T045102Z
LAST-MODIFIED:20180217T045102Z
UID:33349-1519034400-1519059600@marthoma.in
SUMMARY:Mar Thoma Sabha Council
DESCRIPTION:
URL:https://marthoma.in/event/mar-thoma-sabha-council-11/
LOCATION:Tiruvalla
END:VEVENT
END:VCALENDAR