BEGIN:VCALENDAR
VERSION:2.0
PRODID:-//Malankara Mar Thoma Syrian Church - ECPv4.3.1.1//NONSGML v1.0//EN
CALSCALE:GREGORIAN
METHOD:PUBLISH
X-WR-CALNAME:Malankara Mar Thoma Syrian Church
X-ORIGINAL-URL:https://marthoma.in
X-WR-CALDESC:Events for Malankara Mar Thoma Syrian Church
BEGIN:VEVENT
DTSTART;TZID=UTC+5.5:20190104T090000
DTEND;TZID=UTC+5.5:20190104T211500
DTSTAMP:20260422T032225
CREATED:20190103T044925Z
LAST-MODIFIED:20190103T044925Z
UID:34175-1546592400-1546636500@marthoma.in
SUMMARY:മാരാമണ്‍ കണ്‍വന്‍ഷന്‍ കാല്‍നാട്ട്‌
DESCRIPTION:
URL:https://marthoma.in/event/%e0%b4%ae%e0%b4%be%e0%b4%b0%e0%b4%be%e0%b4%ae%e0%b4%a3%e0%b5%8d%e2%80%8d-%e0%b4%95%e0%b4%a3%e0%b5%8d%e2%80%8d%e0%b4%b5%e0%b4%a8%e0%b5%8d%e2%80%8d%e0%b4%b7%e0%b4%a8%e0%b5%8d%e2%80%8d-%e0%b4%95%e0%b4%be/
LOCATION:Maramon Convention\, Maramon\, Kerala\, India
GEO:9.3355157;76.7035093
X-APPLE-STRUCTURED-LOCATION;VALUE=URI;X-ADDRESS=Maramon Convention Maramon Kerala India;X-APPLE-RADIUS=500;X-TITLE=Maramon Convention:geo:76.7035093,9.3355157
END:VEVENT
END:VCALENDAR