BEGIN:VCALENDAR
VERSION:2.0
PRODID:-//Malankara Mar Thoma Syrian Church - ECPv4.3.1.1//NONSGML v1.0//EN
CALSCALE:GREGORIAN
METHOD:PUBLISH
X-WR-CALNAME:Malankara Mar Thoma Syrian Church
X-ORIGINAL-URL:https://marthoma.in
X-WR-CALDESC:Events for Malankara Mar Thoma Syrian Church
BEGIN:VEVENT
DTSTART;VALUE=DATE:20190303
DTEND;VALUE=DATE:20190420
DTSTAMP:20260425T184724
CREATED:20190110T041951Z
LAST-MODIFIED:20190124T110432Z
UID:34180-1551571200-1555804799@marthoma.in
SUMMARY:Great Lent
DESCRIPTION:
URL:https://marthoma.in/event/great-lent-2/
END:VEVENT
BEGIN:VEVENT
DTSTART;VALUE=DATE:20190412
DTEND;VALUE=DATE:20190412
DTSTAMP:20260425T184724
CREATED:20190110T042137Z
LAST-MODIFIED:20190110T042137Z
UID:34187-1555027200-1555113599@marthoma.in
SUMMARY:നാല്പതാം വെള്ളി
DESCRIPTION:
URL:https://marthoma.in/event/%e0%b4%a8%e0%b4%be%e0%b4%b2%e0%b5%8d%e0%b4%aa%e0%b4%a4%e0%b4%be%e0%b4%82-%e0%b4%b5%e0%b5%86%e0%b4%b3%e0%b5%8d%e0%b4%b3%e0%b4%bf/
END:VEVENT
BEGIN:VEVENT
DTSTART;TZID=UTC+5.5:20190412T050000
DTEND;TZID=UTC+5.5:20190412T190000
DTSTAMP:20260425T184724
CREATED:20190405T034305Z
LAST-MODIFIED:20190405T034423Z
UID:34576-1555045200-1555095600@marthoma.in
SUMMARY:Episcopal Jubilee Institute- Convocation and Commissioning Service
DESCRIPTION:Convocation and Commissioning Service of the outgoing students of Mar Thoma Episcopal Jubilee Institute of Evangelism will be held on Friday the 12th April 2019 at 5PM at the E. J. Institute Chapel. Rt. Rev. Dr. Abraham Mar Paulos Episcopa will deliver the convocation address\, award the certificate and officiate the commissioning service.\nRev. Dr. Easow Mathew\nPrincipal
URL:https://marthoma.in/event/episcopal-jubilee-institute-convocation-and-commissioning-service/
LOCATION:Kompady\, Manjady\, Tiruvalla\, Kerala\, India
END:VEVENT
END:VCALENDAR