BEGIN:VCALENDAR
VERSION:2.0
PRODID:-//Malankara Mar Thoma Syrian Church - ECPv4.3.1.1//NONSGML v1.0//EN
CALSCALE:GREGORIAN
METHOD:PUBLISH
X-WR-CALNAME:Malankara Mar Thoma Syrian Church
X-ORIGINAL-URL:https://marthoma.in
X-WR-CALDESC:Events for Malankara Mar Thoma Syrian Church
BEGIN:VEVENT
DTSTART;VALUE=DATE:20190303
DTEND;VALUE=DATE:20190420
DTSTAMP:20260425T211838
CREATED:20190110T041951Z
LAST-MODIFIED:20190124T110432Z
UID:34180-1551571200-1555804799@marthoma.in
SUMMARY:Great Lent
DESCRIPTION:
URL:https://marthoma.in/event/great-lent-2/
END:VEVENT
BEGIN:VEVENT
DTSTART;VALUE=DATE:20190414
DTEND;VALUE=DATE:20190414
DTSTAMP:20260425T211838
CREATED:20190110T042211Z
LAST-MODIFIED:20190110T042211Z
UID:34189-1555200000-1555286399@marthoma.in
SUMMARY:Hossana
DESCRIPTION:
URL:https://marthoma.in/event/hossana/
END:VEVENT
END:VCALENDAR